BEGIN:VCALENDAR
VERSION:2.0
PRODID:-//Baylor Scott &amp; White Medical Center – Frisco - ECPv6.15.20//NONSGML v1.0//EN
CALSCALE:GREGORIAN
METHOD:PUBLISH
X-WR-CALNAME:Baylor Scott &amp; White Medical Center – Frisco
X-ORIGINAL-URL:https://baylorfrisco.com
X-WR-CALDESC:Events for Baylor Scott &amp; White Medical Center – Frisco
REFRESH-INTERVAL;VALUE=DURATION:PT1H
X-Robots-Tag:noindex
X-PUBLISHED-TTL:PT1H
BEGIN:VTIMEZONE
TZID:UTC
BEGIN:STANDARD
TZOFFSETFROM:+0000
TZOFFSETTO:+0000
TZNAME:UTC
DTSTART:20250101T000000
END:STANDARD
END:VTIMEZONE
BEGIN:VEVENT
DTSTART;TZID=UTC:20260421T183000
DTEND;TZID=UTC:20260421T203000
DTSTAMP:20260419T175943
CREATED:20251120T212518Z
LAST-MODIFIED:20251120T212518Z
UID:10000480-1776796200-1776803400@baylorfrisco.com
SUMMARY:Dads Do More Than Diapers - April 21\, 2026
DESCRIPTION:Dads Do More than Diapers\nThey sure are cute\, but they don’t come with instructions. Baylor Scott & White Medical Center – Frisco offers a variety of classes designed to help parents prepare for their new addition. We encourage you to take as many courses as you can. Classes are complimentary for patients delivering at our facility.\nTo access these classes\, please register for your birth on our website HERE. \nOur Women’s Services Department will provide a unique login code to access the courses.\nThis one-evening workshop prepares men to be dads in all respects and is just for dads.  We will address issues including preparation for labor\, newborn care\, rekindling intimacy following delivery\, and signs of postpartum depression.  The class is led by a male physician and/or pediatrician.  Dads-to-be enjoy the opportunity to address their concerns and fears about fatherhood\, whether they’re first-time fathers or have previous experience with fatherhood.
URL:https://baylorfrisco.com/event/dads-do-more-than-diapers-april-21-2026/
CATEGORIES:Dads do more than diapers
ATTACH;FMTTYPE=image/jpeg:https://baylorfrisco.com/wp-content/uploads/2024/03/AdobeStock_243537897-scaled-1.jpeg
END:VEVENT
BEGIN:VEVENT
DTSTART;TZID=UTC:20260519T183000
DTEND;TZID=UTC:20260519T203000
DTSTAMP:20260419T175943
CREATED:20260304T183047Z
LAST-MODIFIED:20260304T183047Z
UID:10000549-1779215400-1779222600@baylorfrisco.com
SUMMARY:Dads Do More Than Diapers - May 19\, 2026
DESCRIPTION:Dads Do More than Diapers\nThey sure are cute\, but they don’t come with instructions. Baylor Scott & White Medical Center – Frisco offers a variety of classes designed to help parents prepare for their new addition. We encourage you to take as many courses as you can. Classes are complimentary for patients delivering at our facility.\nTo access these classes\, please register for your birth on our website HERE. \nOur Women’s Services Department will provide a unique login code to access the courses.\nThis one-evening workshop prepares men to be dads in all respects and is just for dads.  We will address issues including preparation for labor\, newborn care\, rekindling intimacy following delivery\, and signs of postpartum depression.  The class is led by a male physician and/or pediatrician.  Dads-to-be enjoy the opportunity to address their concerns and fears about fatherhood\, whether they’re first-time fathers or have previous experience with fatherhood.
URL:https://baylorfrisco.com/event/dads-do-more-than-diapers-may-19-2026/
CATEGORIES:Dads do more than diapers
ATTACH;FMTTYPE=image/jpeg:https://baylorfrisco.com/wp-content/uploads/2024/03/AdobeStock_243537897-scaled-1.jpeg
END:VEVENT
BEGIN:VEVENT
DTSTART;TZID=UTC:20260623T183000
DTEND;TZID=UTC:20260623T203000
DTSTAMP:20260419T175943
CREATED:20260304T183303Z
LAST-MODIFIED:20260304T183303Z
UID:10000550-1782239400-1782246600@baylorfrisco.com
SUMMARY:Dads Do More Than Diapers - June 23\, 2026
DESCRIPTION:Dads Do More than Diapers\nThey sure are cute\, but they don’t come with instructions. Baylor Scott & White Medical Center – Frisco offers a variety of classes designed to help parents prepare for their new addition. We encourage you to take as many courses as you can. Classes are complimentary for patients delivering at our facility.\nTo access these classes\, please register for your birth on our website HERE. \nOur Women’s Services Department will provide a unique login code to access the courses.\nThis one-evening workshop prepares men to be dads in all respects and is just for dads.  We will address issues including preparation for labor\, newborn care\, rekindling intimacy following delivery\, and signs of postpartum depression.  The class is led by a male physician and/or pediatrician.  Dads-to-be enjoy the opportunity to address their concerns and fears about fatherhood\, whether they’re first-time fathers or have previous experience with fatherhood.
URL:https://baylorfrisco.com/event/dads-do-more-than-diapers-june-23-2026/
CATEGORIES:Dads do more than diapers
ATTACH;FMTTYPE=image/jpeg:https://baylorfrisco.com/wp-content/uploads/2024/03/AdobeStock_243537897-scaled-1.jpeg
END:VEVENT
BEGIN:VEVENT
DTSTART;TZID=UTC:20260721T183000
DTEND;TZID=UTC:20260721T203000
DTSTAMP:20260419T175943
CREATED:20260304T183515Z
LAST-MODIFIED:20260304T183515Z
UID:10000551-1784658600-1784665800@baylorfrisco.com
SUMMARY:Dads Do More Than Diapers - July 21\, 2026
DESCRIPTION:Dads Do More than Diapers\nThey sure are cute\, but they don’t come with instructions. Baylor Scott & White Medical Center – Frisco offers a variety of classes designed to help parents prepare for their new addition. We encourage you to take as many courses as you can. Classes are complimentary for patients delivering at our facility.\nTo access these classes\, please register for your birth on our website HERE. \nOur Women’s Services Department will provide a unique login code to access the courses.\nThis one-evening workshop prepares men to be dads in all respects and is just for dads.  We will address issues including preparation for labor\, newborn care\, rekindling intimacy following delivery\, and signs of postpartum depression.  The class is led by a male physician and/or pediatrician.  Dads-to-be enjoy the opportunity to address their concerns and fears about fatherhood\, whether they’re first-time fathers or have previous experience with fatherhood.
URL:https://baylorfrisco.com/event/dads-do-more-than-diapers-july-21-2026/
CATEGORIES:Dads do more than diapers
ATTACH;FMTTYPE=image/jpeg:https://baylorfrisco.com/wp-content/uploads/2024/03/AdobeStock_243537897-scaled-1.jpeg
END:VEVENT
END:VCALENDAR